BEGIN:VCALENDAR
VERSION:2.0
PRODID:-//MCR - ECPv6.15.15//NONSGML v1.0//EN
CALSCALE:GREGORIAN
METHOD:PUBLISH
X-WR-CALNAME:MCR
X-ORIGINAL-URL:https://mcr.gob.ar
X-WR-CALDESC:Eventos para MCR
REFRESH-INTERVAL;VALUE=DURATION:PT1H
X-Robots-Tag:noindex
X-PUBLISHED-TTL:PT1H
BEGIN:VTIMEZONE
TZID:America/Sao_Paulo
BEGIN:STANDARD
TZOFFSETFROM:-0300
TZOFFSETTO:-0300
TZNAME:-03
DTSTART:20240101T000000
END:STANDARD
END:VTIMEZONE
BEGIN:VEVENT
DTSTART;TZID=America/Sao_Paulo:20251207T110000
DTEND;TZID=America/Sao_Paulo:20251207T170000
DTSTAMP:20260420T052512
CREATED:20251205T165523Z
LAST-MODIFIED:20251205T165523Z
UID:2042-1765105200-1765126800@mcr.gob.ar
SUMMARY:Bajo Hondo celebrará su 134° Aniversario
DESCRIPTION:El Municipio de Coronel Rosales\, junto a la Comisión Organizadora del Aniversario\, invita a\ntoda la comunidad a participar de los festejos por el 134° Aniversario de Bajo Hondo\, que\nse realizarán el 7 de diciembre en la Plaza Independencia. \nEl encuentro contará con la participación de agrupaciones folklóricas\, peñas\, feriantes\,\ngastronómicos y agrupaciones gauchas\, que año a año le dan vida a esta fiesta tan\nrepresentativa para la localidad. Esta edición volverá a reunir a vecinos y visitantes en un\nclima de tradición\, música\, baile y sabores\, fortaleciendo una celebración que sigue\ncreciendo gracias al compromiso comunitario. \nQuienes deseen sumarse como parte de la programación pueden comunicarse con los\nsiguientes contactos:\n● Patio gastronómico: 291-5752987 (Diego)\n● Peñas folklóricas: 291-5089006 (Pedro)\n● Feriantes: 2932-611795 (Walter) / 2932-532800 (Andrea)\n● Agrupaciones gauchas: 2932-543999 (Camila) \nEl Municipio invita a todas las familias del distrito a acompañar esta fecha tan especial para\nla comunidad de Bajo Hondo y ser parte de una jornada que celebra la historia\, la identidad\ny las tradiciones locales.
URL:https://mcr.gob.ar/agenda/bajo-hondo-celebrara-su-134-aniversario/
LOCATION:Plaza Independencia\, Bajo Hondo\, Buenos Aires\, Argentina
CATEGORIES:Arte y música,Turismo
ATTACH;FMTTYPE=image/jpeg:https://mcr.gob.ar/wp-content/uploads/2025/12/WhatsApp-Image-2025-12-04-at-17.06.47.jpeg
END:VEVENT
END:VCALENDAR